BEGIN:VCALENDAR
VERSION:2.0
PRODID:-//Feneauto - ECPv6.14.2//NONSGML v1.0//EN
CALSCALE:GREGORIAN
METHOD:PUBLISH
X-ORIGINAL-URL:https://feneauto.org.br
X-WR-CALDESC:Eventos para Feneauto
REFRESH-INTERVAL;VALUE=DURATION:PT1H
X-Robots-Tag:noindex
X-PUBLISHED-TTL:PT1H
BEGIN:VTIMEZONE
TZID:America/Sao_Paulo
BEGIN:STANDARD
TZOFFSETFROM:-0300
TZOFFSETTO:-0300
TZNAME:-03
DTSTART:20230101T000000
END:STANDARD
END:VTIMEZONE
BEGIN:VEVENT
DTSTART;TZID=America/Sao_Paulo:20240916T080000
DTEND;TZID=America/Sao_Paulo:20240917T170000
DTSTAMP:20260420T233135
CREATED:20240220T001155Z
LAST-MODIFIED:20240220T001155Z
UID:839-1726473600-1726592400@feneauto.org.br
SUMMARY:FENEAUTO Em Seu Estado (Goiás)
DESCRIPTION:
URL:https://feneauto.org.br/agenda/feneauto-em-seu-estado-goias/
ORGANIZER;CN="Feneauto":MAILTO:atendimento@feneauto.org.br
END:VEVENT
BEGIN:VEVENT
DTSTART;TZID=America/Sao_Paulo:20240725T080000
DTEND;TZID=America/Sao_Paulo:20240726T170000
DTSTAMP:20260420T233135
CREATED:20240220T000502Z
LAST-MODIFIED:20240220T000502Z
UID:837-1721894400-1722013200@feneauto.org.br
SUMMARY:FENEAUTO Em Seu Estado (Maranhão)
DESCRIPTION:
URL:https://feneauto.org.br/agenda/feneauto-em-seu-estado-maranhao/
ORGANIZER;CN="Feneauto":MAILTO:atendimento@feneauto.org.br
END:VEVENT
BEGIN:VEVENT
DTSTART;TZID=America/Sao_Paulo:20240523T080000
DTEND;TZID=America/Sao_Paulo:20240524T170000
DTSTAMP:20260420T233135
CREATED:20240220T000031Z
LAST-MODIFIED:20240220T000031Z
UID:835-1716451200-1716570000@feneauto.org.br
SUMMARY:FENEAUTO Em Seu Estado (Alagoas)
DESCRIPTION:
URL:https://feneauto.org.br/agenda/feneauto-em-seu-estado-alagoas/
ORGANIZER;CN="Feneauto":MAILTO:atendimento@feneauto.org.br
END:VEVENT
BEGIN:VEVENT
DTSTART;TZID=America/Sao_Paulo:20240314T080000
DTEND;TZID=America/Sao_Paulo:20240315T170000
DTSTAMP:20260420T233135
CREATED:20240219T234633Z
LAST-MODIFIED:20240219T235735Z
UID:833-1710403200-1710522000@feneauto.org.br
SUMMARY:FENEAUTO Em Seu Estado (Pernambuco)
DESCRIPTION:
URL:https://feneauto.org.br/agenda/feneauto-em-seu-estado-pernambuco/
ORGANIZER;CN="Feneauto":MAILTO:atendimento@feneauto.org.br
END:VEVENT
BEGIN:VEVENT
DTSTART;TZID=America/Sao_Paulo:20231109T140000
DTEND;TZID=America/Sao_Paulo:20231109T173000
DTSTAMP:20260420T233135
CREATED:20231011T212757Z
LAST-MODIFIED:20231011T214225Z
UID:769-1699538400-1699551000@feneauto.org.br
SUMMARY:III Encontro Nacional das Autoescolas/CFCs
DESCRIPTION:O III Encontro Nacional das Autoescolas/CFCs\, é o maior evento da categoria\, que abordará temas relevantes ligados ao setor\, discutindo com autoridades e especialistas as transformações da formação de condutores e como o processo de modernização precisa ser implementado\, visando a desburocratização e a melhoria da formação. \nTeremos diversos painéis onde as discussões abordarão diversos temas. \n\nTransformação digital e suas influências no formação do condutor;\nModernização do processo de habilitação;\nComo as novas tecnologias empregadas nos veículos podem impactar o trânsito;\nMudanças na legislação que poderão transformar a forma de atuar na formação do condutor.\nGestão do CFC “Até quando conseguiremos enxugar gelo”\nNovos negócios – “Como transformar o CFC e a formação em um negócio lucrativo”\n\nProgramação sujeita a alteração \nPedimos a título de doação que traga 3 caixas de leite\, sua doação será muito importante para ajudar os projetos sociais que serão selecionados para recebê-las. \nSua presença está confirmada! \nAguardamos sua presença e participação!
URL:https://feneauto.org.br/agenda/iii-encontro-nacional-das-autoescolas-cfcs-2/
LOCATION:Cencon AMMG – Centro de Convenções e Eventos da Associação Médica de Minas\, Av. João Pinheiro\, 161 - Centro\, Belo Horizonte\, Minas Gerais\, 30130-183\, Brasil
ATTACH;FMTTYPE=image/jpeg:https://feneauto.org.br/wp-content/uploads/2023/10/Cencon-AMMG.jpeg
END:VEVENT
BEGIN:VEVENT
DTSTART;TZID=America/Sao_Paulo:20231108T083000
DTEND;TZID=America/Sao_Paulo:20231108T173000
DTSTAMP:20260420T233135
CREATED:20231011T212344Z
LAST-MODIFIED:20231011T214130Z
UID:765-1699432200-1699464600@feneauto.org.br
SUMMARY:III Encontro Nacional das Autoescolas/CFCs
DESCRIPTION:O III Encontro Nacional das Autoescolas/CFCs\, é o maior evento da categoria\, que abordará temas relevantes ligados ao setor\, discutindo com autoridades e especialistas as transformações da formação de condutores e como o processo de modernização precisa ser implementado\, visando a desburocratização e a melhoria da formação. \nTeremos diversos painéis onde as discussões abordarão diversos temas. \n\nTransformação digital e suas influências no formação do condutor;\nModernização do processo de habilitação;\nComo as novas tecnologias empregadas nos veículos podem impactar o trânsito;\nMudanças na legislação que poderão transformar a forma de atuar na formação do condutor.\nGestão do CFC “Até quando conseguiremos enxugar gelo”\nNovos negócios – “Como transformar o CFC e a formação em um negócio lucrativo”\n\nProgramação sujeita a alteração \nPedimos a título de doação que traga 3 caixas de leite\, sua doação será muito importante para ajudar os projetos sociais que serão selecionados para recebê-las. \nSua presença está confirmada! \nAguardamos sua presença e participação!
URL:https://feneauto.org.br/agenda/iii-encontro-nacional-das-autoescolas-cfcs/
LOCATION:Cencon AMMG – Centro de Convenções e Eventos da Associação Médica de Minas\, Av. João Pinheiro\, 161 - Centro\, Belo Horizonte\, Minas Gerais\, 30130-183\, Brasil
CATEGORIES:Eventos Presenciais
ATTACH;FMTTYPE=image/jpeg:https://feneauto.org.br/wp-content/uploads/2023/10/Cencon-AMMG.jpeg
ORGANIZER;CN="Feneauto":MAILTO:atendimento@feneauto.org.br
END:VEVENT
BEGIN:VEVENT
DTSTART;TZID=America/Sao_Paulo:20230623T090000
DTEND;TZID=America/Sao_Paulo:20230623T173000
DTSTAMP:20260420T233135
CREATED:20230612T190006Z
LAST-MODIFIED:20230612T190117Z
UID:311-1687510800-1687541400@feneauto.org.br
SUMMARY:II Feneauto em Seu Estado - Ceará
DESCRIPTION:II Feneauto em Seu Estado – Ceará
URL:https://feneauto.org.br/agenda/ii-feneauto-em-seu-estado-ceara/
LOCATION:Hotel Gran Mareiro\, Rua Oswaldo Araújo\, 100 Praia do Futuro\, Fortaleza\, Ceará\, 60177-325\, Brasil
CATEGORIES:Eventos Presenciais
ATTACH;FMTTYPE=image/jpeg:https://feneauto.org.br/wp-content/uploads/2023/06/feneautro_parceiros.jpg
ORGANIZER;CN="Feneauto":MAILTO:atendimento@feneauto.org.br
END:VEVENT
END:VCALENDAR